BEGIN:VCALENDAR
VERSION:2.0
PRODID:-//eventon.com NONSGML v1.0//EN
CALSCALE:GREGORIAN
METHOD:PUBLISH
BEGIN:VEVENT
UID:69e536f9ae4ee
DTSTAMP:20260419T201137Z
DTSTART:20221207T080600Z
DTEND:20221207T110600Z
LOCATION:Crabe asbl Rue Sergent Sortet\,  27 1370 Jodoigne
SUMMARY:Atelier informatique et numérique pour demandeurs d'emploi
DESCRIPTION:En partenariat avec la ville de Jodoigne\,  Le Crabe Asbl organ
 ise des ateliers informatique et numérique collectifs pour les demandeurs
  d’emploi : tous les mercredis de 9 à 12h (HORS CONGES SCOLAIRES). Cela
  comprend: les bases d&rsquo;utilisation d&rsquo;un PC\,  d&rsquo;un smartp
 hone\,  le traitement de texte\,  l&rsquo;initiation aux applications (banc
 aires\,  administratives&#8230;)\,  la rédaction[..]\nhttps://crabe.be/eve
 nts/20227/
URL:https://crabe.be/events/20227/
END:VEVENT
END:VCALENDAR