BEGIN:VCALENDAR
VERSION:2.0
PRODID:-//eventon.com NONSGML v1.0//EN
CALSCALE:GREGORIAN
METHOD:PUBLISH
BEGIN:VEVENT
UID:69ea59e0b9af4
DTSTAMP:20260423T174152Z
DTSTART:20230428T130000Z
DTEND:20230428T160000Z
LOCATION:
SUMMARY:Marché "inaugural"
DESCRIPTION:Quatre marchés événements en 2023 En plus de la vente de nos
  produits bio et locaux\,  venez-nous rejoindre dans notre cour intérieure
  pour vivre un moment de partage et de convivialité en présence d’arti
 sans locaux tels que La ferme du Pont des Dames\,  la petite Boulangerie\,
   … Leur présence vous permet de[..]\nhttps://crabe.be/events/marche-ina
 ugural/
URL:https://crabe.be/events/marche-inaugural/
END:VEVENT
END:VCALENDAR