BEGIN:VCALENDAR
VERSION:2.0
PRODID:-//eventon.com NONSGML v1.0//EN
CALSCALE:GREGORIAN
METHOD:PUBLISH
BEGIN:VEVENT
UID:69e8c04e364aa
DTSTAMP:20260422T123422Z
DTSTART:20241011T110000Z
DTEND:20241011T140000Z
LOCATION:Crabe asbl Rue Sergent Sortet\,  27 1370 Jodoigne
SUMMARY:Atelier informatique et numérique
DESCRIPTION:En partenariat avec la ville de Jodoigne\,  Le Crabe Asbl organ
 ise des ateliers informatique et numérique tous les vendredis après-midi.
  Vous pouvez y apprendre les notions de base en informatique et également 
 recevoir de l&rsquo;aide pour vos demandes spécifiques. Ces ateliers hebdo
 madaires comprennent : les bases d&rsquo;utilisation du matériel (ordinate
 ur\, [..]\nhttps://crabe.be/events/atelier-informatique-et-numerique-2/var/
 ri-34.l-L1
URL:https://crabe.be/events/atelier-informatique-et-numerique-2/var/ri-34.l-L1
END:VEVENT
END:VCALENDAR