BEGIN:VCALENDAR
VERSION:2.0
PRODID:-//eventon.com NONSGML v1.0//EN
CALSCALE:GREGORIAN
METHOD:PUBLISH
BEGIN:VEVENT
UID:69eb679243266
DTSTAMP:20260424T125234Z
DTSTART:20250113T090000Z
DTEND:20250113T110000Z
LOCATION:Crabe asbl Rue Sergent Sortet\,  27 1370 Jodoigne
SUMMARY:SÃ©ance d'information - Formation "Ouvrier en Ã©co-jardinage"
DESCRIPTION:Cette sÃ©ance dâ€™informations vous permettra de dÃ©couvrir l&r
 squo;objectif\,  le programme et le contenu de la formation Â«Â Ouvrier en 
 Ã©co-jardinageÂ Â» qui dÃ©butera en janvier 2025. Au cours de cette sÃ©ance
 \,  vous aurez Ã©galement l&rsquo;occasion d&rsquo;expliquer votre parcours
 \,  vos motivations et de poser toutes vos questions concernant cette filiÃ
 ¨re de formation. Adresse[..]\nhttps://crabe.be/events/seance-information-f
 ormation-ouvrier-en-eco-jardinage-2025/var/ri-2.l-L1
URL:https://crabe.be/events/seance-information-formation-ouvrier-en-eco-jardinage-2025/var/ri-2.l-L1
END:VEVENT
END:VCALENDAR