BEGIN:VCALENDAR
VERSION:2.0
PRODID:-//eventon.com NONSGML v1.0//EN
CALSCALE:GREGORIAN
METHOD:PUBLISH
BEGIN:VEVENT
UID:69e4d74d25838
DTSTAMP:20260419T132325Z
DTSTART:20241210T130000Z
DTEND:20241210T150000Z
LOCATION:
SUMMARY:Séance d'information - Formation "Reconnecte-toi !" à Perwez
DESCRIPTION:Le module « Reconnecte-toi » est proposé pour se remettre
  en action progressivement ! Ce module se déroule 1 jour/semaine. La séan
 ce d’information présente le module qui se déroule dans le bâtiment de
  la Maison de l&rsquo;Emploi de Perwez tout au long de l’année. Adresse
  : Maison de l&rsquo;Emploi &#8211; Rue de la Station[..]\nhttps://crabe.be
 /events/seance-dinformation-formation-reconnecte-toi-a-perwez-2025/
URL:https://crabe.be/events/seance-dinformation-formation-reconnecte-toi-a-perwez-2025/
END:VEVENT
END:VCALENDAR