BEGIN:VCALENDAR
VERSION:2.0
PRODID:-//eventon.com NONSGML v1.0//EN
CALSCALE:GREGORIAN
METHOD:PUBLISH
BEGIN:VEVENT
UID:69e4c6cd68308
DTSTAMP:20260419T121301Z
DTSTART:20250123T090000Z
DTEND:20250123T110000Z
LOCATION:
SUMMARY:Séance d'information - Formation "Reconnecte-toi !" à Perwez
DESCRIPTION:Le module « Reconnecte-toi » est proposé pour se remettre
  en action progressivement ! Ce module se déroule 1 jour/semaine. La séan
 ce d’information présente le module qui se déroule dans le bâtiment de
  la Maison de l&rsquo;Emploi de Perwez tout au long de l’année. Adresse
  : Maison de l&rsquo;Emploi &#8211; Rue de la Station[..]\nhttps://crabe.be
 /events/seance-dinformation-formation-reconnecte-toi-a-perwez-2025/var/ri-2
 .l-L1
URL:https://crabe.be/events/seance-dinformation-formation-reconnecte-toi-a-perwez-2025/var/ri-2.l-L1
END:VEVENT
END:VCALENDAR