BEGIN:VCALENDAR
VERSION:2.0
PRODID:-//eventon.com NONSGML v1.0//EN
CALSCALE:GREGORIAN
METHOD:PUBLISH
BEGIN:VEVENT
UID:69eb67c72204f
DTSTAMP:20260424T125327Z
DTSTART:20250620T080000Z
DTEND:20250620T100000Z
LOCATION:
SUMMARY:Séance d'information - Formation "Reconnecte-toi !"
DESCRIPTION:Le module « Reconnecte-toi » est proposé pour se remettre 
 en action progressivement ! Ce module se déroule 1 jour/semaine. La séanc
 e d&rsquo;information présente le module qui se déroule à Jodoigne ou à
  Hélécine ou à Perwez tout au long de l’année. Adresse : Crabe asbl 
 &#8211; Rue Sergent Sortet\,  27 à 1370[..]\nhttps://crabe.be/events/seanc
 e-dinformation-formation-reconnecte-toi-a-jodoigne/var/ri-8.l-L1
URL:https://crabe.be/events/seance-dinformation-formation-reconnecte-toi-a-jodoigne/var/ri-8.l-L1
END:VEVENT
END:VCALENDAR