BEGIN:VCALENDAR
VERSION:2.0
PRODID:-//eventon.com NONSGML v1.0//EN
CALSCALE:GREGORIAN
METHOD:PUBLISH
BEGIN:VEVENT
UID:69e799a9b0d6c
DTSTAMP:20260421T153713Z
DTSTART:20250913T090000Z
DTEND:20250913T150000Z
LOCATION:Chateau des Cailloux Chaussée de Hannut 129
SUMMARY:Journée 'Portes ouvertes' du Crabe
DESCRIPTION:Le samedi 13 septembre de 11h à 17h\,  le Crabe asbl vous invi
 te à découvrir ses différentes activités de manière ludique et festive
  dans le cadre magnifique de son potager et de son verger au cœur du parc 
 du Château des Cailloux. Au travers d’ateliers\,  démonstrations\,  qui
 z\,  découvertes\,  balades didactiques\, [..]\nhttps://crabe.be/events/jo
 urnee-portes-ouvertes-du-crabe-13-09-2025/
URL:https://crabe.be/events/journee-portes-ouvertes-du-crabe-13-09-2025/
END:VEVENT
END:VCALENDAR