BEGIN:VCALENDAR
VERSION:2.0
PRODID:-//eventon.com NONSGML v1.0//EN
CALSCALE:GREGORIAN
METHOD:PUBLISH
BEGIN:VEVENT
UID:69e7354cc248e
DTSTAMP:20260421T082900Z
DTSTART:20251001T120000Z
DTEND:20251001T140000Z
LOCATION:Crabe asbl Rue Sergent Sortet\,  27 1370 Jodoigne
SUMMARY:Séance d'information job coaching
DESCRIPTION:Vous êtes en recherche d’emploi ou en réflexion sur votre p
 arcours professionnel ?Participez à l’une de nos séances d’informat
 ion gratuites sur le job coaching\,  proposées par la MIRE BW en collabora
 tion avec le Crabe ASBL. 🎯 Objectif : Présenter la MIRE BW\,  son rô
 le dans la mise à l’emploi. Elle aide les[..]\nhttps://crabe.be/events/a
 telier-job-coaching-jodoigne-mire-bw-octobre-2025/
URL:https://crabe.be/events/atelier-job-coaching-jodoigne-mire-bw-octobre-2025/
END:VEVENT
END:VCALENDAR