BEGIN:VCALENDAR
VERSION:2.0
PRODID:-//eventon.com NONSGML v1.0//EN
CALSCALE:GREGORIAN
METHOD:PUBLISH
BEGIN:VEVENT
UID:69eb4a14dcd6f
DTSTAMP:20260424T104644Z
DTSTART:20261009T130000Z
DTEND:20261009T160000Z
LOCATION:Crabe asbl Rue Sergent Sortet\,  27 1370 Jodoigne
SUMMARY:Marché de "Clôture" fruits et légumes bio du Crabe (en présence de producteurs locaux)
DESCRIPTION:Dès la belle saison\,  de mai à octobre\,  rejoignez notre ma
 rché tous les vendredis de 15h à 17h au cœur de Jodoigne. Vous y retrouv
 ez nos fruits et légumes certifiés BIO\,  produits dans notre potager du 
 Château des Cailloux à Jodoigne. Ceux-ci sont cultivés et récoltés a
 vec soin par nos stagiaires en maraichage[..]\nhttps://crabe.be/events/mar
 che-cloture-evenement-saison-2026/
URL:https://crabe.be/events/marche-cloture-evenement-saison-2026/
END:VEVENT
END:VCALENDAR