BEGIN:VCALENDAR
VERSION:2.0
PRODID:-//eventon.com NONSGML v1.0//EN
CALSCALE:GREGORIAN
METHOD:PUBLISH
BEGIN:VEVENT
UID:69eb815adc773
DTSTAMP:20260424T144234Z
DTSTART:20260508T130000Z
DTEND:20260508T160000Z
LOCATION:Crabe asbl Rue Sergent Sortet\,  27 1370 Jodoigne
SUMMARY:Marché "inaugural" fruits et légumes bio du Crabe (en présence de producteurs locaux)
DESCRIPTION:Dès la belle saison\,  de mai à octobre\,  rejoignez notre ma
 rché tous les vendredis de 15h à 17h au cœur de Jodoigne. Vous y retrouv
 ez nos fruits et légumes certifiés BIO\,  produits dans notre potager du 
 Château des Cailloux à Jodoigne. Ceux-ci sont cultivés et récoltés a
 vec soin par nos stagiaires en maraichage[..]\nhttps://crabe.be/events/mar
 che-inaugural-evenement-saison-2026/
URL:https://crabe.be/events/marche-inaugural-evenement-saison-2026/
END:VEVENT
END:VCALENDAR