BEGIN:VCALENDAR
VERSION:2.0
PRODID:-//eventon.com NONSGML v1.0//EN
CALSCALE:GREGORIAN
METHOD:PUBLISH
BEGIN:VEVENT
UID:69eae3d1c0a1c
DTSTAMP:20260424T033025Z
DTSTART:20260912T080000Z
DTEND:20260912T183000Z
LOCATION:Le Stampia Chaussée de Charleroi\,  97A
SUMMARY:Fête des 50 ans du Crabe asbl
DESCRIPTION:🌱 SAVE THE DATE &#8211; Le samedi 12 septembre\,  nous fêto
 ns les 50 ans du Crabe 🌱 Cette année\,  le Crabe asbl fête ses 50 ans
  ! Nous vous invitons à célébrer cet anniversaire exceptionnel avec nous
 ! Le programme est à l&rsquo;image de notre projet avec une journée festi
 ve\,  conviviale et[..]\nhttps://crabe.be/events/fete-50-ans-crabe-asbl/
URL:https://crabe.be/events/fete-50-ans-crabe-asbl/
END:VEVENT
END:VCALENDAR